BEGIN:VCALENDAR
VERSION:2.0
PRODID:-//See Clayton County - ECPv6.15.20//NONSGML v1.0//EN
CALSCALE:GREGORIAN
METHOD:PUBLISH
X-ORIGINAL-URL:https://seeclaytoncountyga.com
X-WR-CALDESC:Events for See Clayton County
REFRESH-INTERVAL;VALUE=DURATION:PT1H
X-Robots-Tag:noindex
X-PUBLISHED-TTL:PT1H
BEGIN:VTIMEZONE
TZID:America/New_York
BEGIN:DAYLIGHT
TZOFFSETFROM:-0500
TZOFFSETTO:-0400
TZNAME:EDT
DTSTART:20250309T070000
END:DAYLIGHT
BEGIN:STANDARD
TZOFFSETFROM:-0400
TZOFFSETTO:-0500
TZNAME:EST
DTSTART:20251102T060000
END:STANDARD
BEGIN:DAYLIGHT
TZOFFSETFROM:-0500
TZOFFSETTO:-0400
TZNAME:EDT
DTSTART:20260308T070000
END:DAYLIGHT
BEGIN:STANDARD
TZOFFSETFROM:-0400
TZOFFSETTO:-0500
TZNAME:EST
DTSTART:20261101T060000
END:STANDARD
BEGIN:DAYLIGHT
TZOFFSETFROM:-0500
TZOFFSETTO:-0400
TZNAME:EDT
DTSTART:20270314T070000
END:DAYLIGHT
BEGIN:STANDARD
TZOFFSETFROM:-0400
TZOFFSETTO:-0500
TZNAME:EST
DTSTART:20271107T060000
END:STANDARD
END:VTIMEZONE
BEGIN:VEVENT
DTSTART;TZID=America/New_York:20260425T170000
DTEND;TZID=America/New_York:20260425T210000
DTSTAMP:20260423T105156
CREATED:20260420T191900Z
LAST-MODIFIED:20260420T191956Z
UID:10000664-1777136400-1777150800@seeclaytoncountyga.com
SUMMARY:Jasber Plaza International Music & Food Fest
DESCRIPTION:Experience live music\, great food\, and community vibes at the Jasber Plaza International Music & Food Fest in Clayton County\, GA\, just minutes south of Atlanta. \nEvent Details:Date: Saturday\, April 25\, 2026Time: 5:00 PM – 9:00 PMLocation: 1105 Main Street\, Forest Park\, GA \nLive Performances:Toney Tiger • L’Tanya “Sugarlips” Shields • Dexter Tolson & The SAE Jam Band \nWhat to Expect:Jazz\, Funk\, Blues\, R&B\, Latin sounds • Live band energy • Dancing • Food vendors \nAdmission:Free general admission • VIP tables available (limited)Lawn chairs welcome • No outside food or alcohol \nTickets & Info:SAELiveMusic.SimpleTix.com | 770-837-7067 \nEnjoy a night of music and culture in Clayton County\, GA—open to the world.
URL:https://seeclaytoncountyga.com/event/jasber-plaza-international-music-food-fest/
LOCATION:Jasber Plaza\, 1105 Main Street\, Forest Park\, GA\, 30297\, United States
CATEGORIES:City of Forest Park
ATTACH;FMTTYPE=image/jpeg:https://seeclaytoncountyga.com/wp-content/uploads/2026/04/669851639_976659731375068_9107481447818779817_n.jpg
END:VEVENT
END:VCALENDAR