BEGIN:VCALENDAR
VERSION:2.0
PRODID:-//See Clayton County - ECPv6.15.20//NONSGML v1.0//EN
CALSCALE:GREGORIAN
METHOD:PUBLISH
X-ORIGINAL-URL:https://seeclaytoncountyga.com
X-WR-CALDESC:Events for See Clayton County
REFRESH-INTERVAL;VALUE=DURATION:PT1H
X-Robots-Tag:noindex
X-PUBLISHED-TTL:PT1H
BEGIN:VTIMEZONE
TZID:America/New_York
BEGIN:DAYLIGHT
TZOFFSETFROM:-0500
TZOFFSETTO:-0400
TZNAME:EDT
DTSTART:20240310T070000
END:DAYLIGHT
BEGIN:STANDARD
TZOFFSETFROM:-0400
TZOFFSETTO:-0500
TZNAME:EST
DTSTART:20241103T060000
END:STANDARD
BEGIN:DAYLIGHT
TZOFFSETFROM:-0500
TZOFFSETTO:-0400
TZNAME:EDT
DTSTART:20250309T070000
END:DAYLIGHT
BEGIN:STANDARD
TZOFFSETFROM:-0400
TZOFFSETTO:-0500
TZNAME:EST
DTSTART:20251102T060000
END:STANDARD
BEGIN:DAYLIGHT
TZOFFSETFROM:-0500
TZOFFSETTO:-0400
TZNAME:EDT
DTSTART:20260308T070000
END:DAYLIGHT
BEGIN:STANDARD
TZOFFSETFROM:-0400
TZOFFSETTO:-0500
TZNAME:EST
DTSTART:20261101T060000
END:STANDARD
END:VTIMEZONE
BEGIN:VEVENT
DTSTART;TZID=America/New_York:20250419T130000
DTEND;TZID=America/New_York:20250419T160000
DTSTAMP:20260421T062911
CREATED:20250416T025744Z
LAST-MODIFIED:20250416T025744Z
UID:10000401-1745067600-1745078400@seeclaytoncountyga.com
SUMMARY:Eggstravaganza
DESCRIPTION:Clayton County Parks and Recreation presents the Eggstravaganza\nSaturday\, April 19\, 2025\n1 p.m.- 4 p.m.\n\nFlat Shoals Park\n1915 Flat Shoals Road\, Riverdale\, GA 30296.\n\nEgg Hunt – Ages 13 years & under. Egg Hunt starts at 2 pm\nFor more information\, call 770-472-8077 or visit claytonparks.com #Claytonconnected\n\nParking & Shuttle Service will be available from North Clayton Middle School.\n5517 W. Fayetteville Rd.
URL:https://seeclaytoncountyga.com/event/eggstravaganza/
LOCATION:Flat Shoals Park\, 1915 Flat Shoals Road\, Riverdale\, GA\, 30296\, United States
CATEGORIES:City of Riverdale GA
ATTACH;FMTTYPE=image/jpeg:https://seeclaytoncountyga.com/wp-content/uploads/2025/04/Eggstra-2025-Sign-copy-002-1200x750-1.jpg
END:VEVENT
BEGIN:VEVENT
DTSTART;TZID=America/New_York:20250426T090000
DTEND;TZID=America/New_York:20250426T100000
DTSTAMP:20260421T062911
CREATED:20250416T025050Z
LAST-MODIFIED:20250416T025050Z
UID:10000400-1745658000-1745661600@seeclaytoncountyga.com
SUMMARY:Spring Wildflower Walk
DESCRIPTION:Join Clayton County Parks and Recreation Friends of Reynolds Nature Preserve on Saturday\, April 26\, 2025\, from 9 a.m. – 10 a.m. for a FREE Wildflower Walk at 5665 Reynolds Road\, Morrow\, GA 30260 to explore the grounds and identify the many spring wildflowers in bloom! #Claytonconnected
URL:https://seeclaytoncountyga.com/event/spring-wildflower-walk/
LOCATION:Reynolds Nature Preserve\, 5665 Reynolds Rd\, Morrow\, 30260\, United States
CATEGORIES:City of Morrow GA
ATTACH;FMTTYPE=image/jpeg:https://seeclaytoncountyga.com/wp-content/uploads/2025/04/Wildflower-Walk2-915x1200-1.jpg
END:VEVENT
END:VCALENDAR